BEGIN:VCALENDAR
VERSION:2.0
PRODID:-//Talks.cam//talks.cam.ac.uk//
X-WR-CALNAME:Talks.cam
BEGIN:VEVENT
SUMMARY:Equality and Diversity Essentials - Speaker to be confirmed
DTSTART:20100204T140000Z
DTEND:20100204T170000Z
UID:TALK22768@talks.cam.ac.uk
CONTACT:Equality & Diversity
DESCRIPTION:A training programme designed to provide a foundation in equal
 ity and diversity and how it applies to the University.\n
LOCATION:University Centre\, Granta Place
END:VEVENT
END:VCALENDAR
