BEGIN:VCALENDAR
VERSION:2.0
PRODID:-//Talks.cam//talks.cam.ac.uk//
X-WR-CALNAME:Talks.cam
BEGIN:VEVENT
SUMMARY:Managing Disabled Staff - Speaker to be confirmed
DTSTART:20100308T133000Z
DTEND:20100308T163000Z
UID:TALK22770@talks.cam.ac.uk
CONTACT:Equality & Diversity
DESCRIPTION:Through discussion and presentation you will gather useful kno
 wledge in the support of disabled staff.\n
LOCATION:Disability Resource Centre\, Keynes House\, Trumpington Street
END:VEVENT
END:VCALENDAR
