BEGIN:VCALENDAR
VERSION:2.0
PRODID:-//Talks.cam//talks.cam.ac.uk//
X-WR-CALNAME:Talks.cam
BEGIN:VEVENT
SUMMARY:Exploring high-redshift quenched galaxies: from low-mass to massiv
 e - William Baker (Dark)
DTSTART:20250502T103000Z
DTEND:20250502T113000Z
UID:TALK228094@talks.cam.ac.uk
CONTACT:Sandro Tacchella
DESCRIPTION:Abstract not available
LOCATION:Ryle Seminar Room\, KICC + online
END:VEVENT
END:VCALENDAR
