BEGIN:VCALENDAR
VERSION:2.0
PRODID:-//Talks.cam//talks.cam.ac.uk//
X-WR-CALNAME:Talks.cam
BEGIN:VEVENT
SUMMARY:Half term break (no talk) - Speaker to be confirmed
DTSTART:20250220T123000Z
DTEND:20250220T133000Z
UID:TALK228112@talks.cam.ac.uk
CONTACT:Oliver Knight
DESCRIPTION:Abstract not available
LOCATION:Online via zoom
END:VEVENT
END:VCALENDAR
