BEGIN:VCALENDAR
VERSION:2.0
PRODID:-//Talks.cam//talks.cam.ac.uk//
X-WR-CALNAME:Talks.cam
BEGIN:VEVENT
SUMMARY:"There was no auditor who could trip him up": Demesne managers and
  the auditing process in 14th-century England and Wales - Jerome Gasson (U
 niversity of Cambridge)
DTSTART:20250212T170000Z
DTEND:20250212T183000Z
UID:TALK228358@talks.cam.ac.uk
CONTACT:Chris Briggs
DESCRIPTION:Abstract not available
LOCATION:Room 6\, Faculty of History
END:VEVENT
END:VCALENDAR
