BEGIN:VCALENDAR
VERSION:2.0
PRODID:-//Talks.cam//talks.cam.ac.uk//
X-WR-CALNAME:Talks.cam
BEGIN:VEVENT
SUMMARY:POSTPONED DUE TO VOLCANO: Evidence of water in the mantle transiti
 on zone from multimode surface waves - Professor Jeannot Trampert (Univers
 iteit Utrecht)
DTSTART:20100421T153000Z
DTEND:20100421T163000Z
UID:TALK22915@talks.cam.ac.uk
CONTACT:Ed Nissen
DESCRIPTION:Abstract not available
LOCATION:Marine/Wolfson Building lecture hall
END:VEVENT
END:VCALENDAR
