BEGIN:VCALENDAR
VERSION:2.0
PRODID:-//Talks.cam//talks.cam.ac.uk//
X-WR-CALNAME:Talks.cam
BEGIN:VEVENT
SUMMARY:The Long Way to Intersection Theory -- Mathematical Politics about
  Space Curves from Max Noether to the 1990s - Norbert Schappacher (Univers
 ity of Strasbourg)
DTSTART:20250428T091500Z
DTEND:20250428T101500Z
UID:TALK230377@talks.cam.ac.uk
DESCRIPTION:Starting from a period that has been discussed in the Brill-No
 ether-translation workshops\, esp. the fact that spaces curves do not figu
 re in the report by Brill and Noether\, the talk will set out on a sequenc
 e of events\, which give a surprising\, political twist to the way in whic
 h the nascent algebraic geometry of the 19th century had to be rewritten i
 nto current mathematics.
LOCATION:Seminar Room 1\, Newton Institute
END:VEVENT
END:VCALENDAR
