BEGIN:VCALENDAR
VERSION:2.0
PRODID:-//Talks.cam//talks.cam.ac.uk//
X-WR-CALNAME:Talks.cam
BEGIN:VEVENT
SUMMARY:Cohomology Classes in the RNA Transcriptome - Kelly Maggs (Max Pla
 nck Institute for Molecular Cell Biology and Genetics)
DTSTART:20250624T144000Z
DTEND:20250624T151500Z
UID:TALK230743@talks.cam.ac.uk
DESCRIPTION:
LOCATION:External
END:VEVENT
END:VCALENDAR
