BEGIN:VCALENDAR
VERSION:2.0
PRODID:-//Talks.cam//talks.cam.ac.uk//
X-WR-CALNAME:Talks.cam
BEGIN:VEVENT
SUMMARY:Correlations of the Möbius function - Joni Teräväinen (Universi
 ty of Cambridge)
DTSTART:20250528T123000Z
DTEND:20250528T140000Z
UID:TALK230971@talks.cam.ac.uk
CONTACT:Julia Wolf
DESCRIPTION:I will survey recent progress on Chowla's conjecture on the co
 rrelations of the Möbius function. I will discuss some of the methods tha
 t have been used to approach this conjecture\, and how these methods have 
 turned out to be useful also for some other problems in additive combinato
 rics and ergodic theory. \n
LOCATION:MR4\, CMS
END:VEVENT
END:VCALENDAR
