BEGIN:VCALENDAR
VERSION:2.0
PRODID:-//Talks.cam//talks.cam.ac.uk//
X-WR-CALNAME:Talks.cam
BEGIN:VEVENT
SUMMARY:Computer Vision: Between Forensics and Biomedical Imaging - Giovan
 na Maria Dimitri\, University of Siena (Italy)
DTSTART:20250527T120000Z
DTEND:20250527T130000Z
UID:TALK231490@talks.cam.ac.uk
CONTACT:Pietro Lio
DESCRIPTION:The seminar will be an interdisciplinary journey between appli
 cations of Artificial Intelligence (AI) Computer Vision based methods to t
 he field of Forensics and Biomedical Imaging. I will first focus on AI app
 lications for country recognition and city verification\, presenting two w
 orks in which AI based models have been applied to such forensics task\, w
 ith a final overview of other forensics applications such as visual sentim
 ent analysis and detection of generated images through AI methods. Subsequ
 ently the seminar will focus on further applications of AI vision methods 
 to the field of deep generative models for Biomedical Imaging\, with a par
 ticular focus on a work on deep generative model for structural brain MRI 
 reconstruction and interpretation. \n
LOCATION:Lecture Theatre 2\, Computer Laboratory\, William Gates Building
END:VEVENT
END:VCALENDAR
