BEGIN:VCALENDAR
VERSION:2.0
PRODID:-//Talks.cam//talks.cam.ac.uk//
X-WR-CALNAME:Talks.cam
BEGIN:VEVENT
SUMMARY:Friday Sermon - Speaker to be confirmed
DTSTART:20100219T130000Z
DTEND:20100219T140000Z
UID:TALK23190@talks.cam.ac.uk
CONTACT:Mirina Paananen
DESCRIPTION:What do our Imams really preach? Come and have a taste of the 
 Friday sermon delivered weekly to Muslims and make up your own mind. The r
 eal deal.
LOCATION:St Columba's Church\, Downing Street
END:VEVENT
END:VCALENDAR
