BEGIN:VCALENDAR
VERSION:2.0
PRODID:-//Talks.cam//talks.cam.ac.uk//
X-WR-CALNAME:Talks.cam
BEGIN:VEVENT
SUMMARY:"The Glass House" Film showing - Speaker to be confirmed
DTSTART:20100305T190000Z
DTEND:20100305T210000Z
UID:TALK23302@talks.cam.ac.uk
CONTACT:17701
DESCRIPTION:\nFilm showing\nhttp://talks.cam.ac.uk/talk/index/23202\n\nFor
  more information and venue\, go to www.womens.cusu.cam.ac.uk
LOCATION:For more information and venue\, go to www.womens.cusu.cam.ac.uk
END:VEVENT
END:VCALENDAR
