BEGIN:VCALENDAR
VERSION:2.0
PRODID:-//Talks.cam//talks.cam.ac.uk//
X-WR-CALNAME:Talks.cam
BEGIN:VEVENT
SUMMARY:Documentary Method - Qualitative Data Interpretation Workshop 2 - 
 Sina-Mareen Koehler\, Research Associate\, Gottfried Wilhelm Leibniz Unive
 rsity of Hanover\, Germany
DTSTART:20100303T090000Z
DTEND:20100303T120000Z
UID:TALK23373@talks.cam.ac.uk
CONTACT:Filio Constantinou
DESCRIPTION:Abstract not available
LOCATION:Room 2S7\, Donald McIntyre Building\, Faculty of Education\, 184 
 Hills Road\, Cambridge
END:VEVENT
END:VCALENDAR
