BEGIN:VCALENDAR
VERSION:2.0
PRODID:-//Talks.cam//talks.cam.ac.uk//
X-WR-CALNAME:Talks.cam
BEGIN:VEVENT
SUMMARY:Continued discussion on:"The myth of language universals: Language
  diversity and its importance for cognitive science" - Reading group
DTSTART:20100218T153000Z
DTEND:20100218T163000Z
UID:TALK23376@talks.cam.ac.uk
CONTACT:Eleni Kapogianni
DESCRIPTION:Discussed paper: Evans\, N.\, & Levinson\, S. C. (2009). The m
 yth of language universals: Language diversity and its importance for cogn
 itive science. Behavioral and Brain Sciences\, 32(5)\, 429-492\n
LOCATION:Brown Library\, RCEAL\, 3rd floor\, English Faculty Building.
END:VEVENT
END:VCALENDAR
