BEGIN:VCALENDAR
VERSION:2.0
PRODID:-//Talks.cam//talks.cam.ac.uk//
X-WR-CALNAME:Talks.cam
BEGIN:VEVENT
SUMMARY:Tutorial for Looten's Lecture - Bram Vancraeynest-De Cuiper (Unive
 rsiteit Gent)
DTSTART:20250910T100000Z
DTEND:20250910T104500Z
UID:TALK234103@talks.cam.ac.uk
DESCRIPTION:
LOCATION:Seminar Room 1\, Newton Institute
END:VEVENT
END:VCALENDAR
