BEGIN:VCALENDAR
VERSION:2.0
PRODID:-//Talks.cam//talks.cam.ac.uk//
X-WR-CALNAME:Talks.cam
BEGIN:VEVENT
SUMMARY:On Quantum Extended Church-Turing Thesis - Zhenghan Wang (Universi
 ty of California\, Santa Barbara)
DTSTART:20251103T102000Z
DTEND:20251103T105500Z
UID:TALK235141@talks.cam.ac.uk
DESCRIPTION:
LOCATION:Seminar Room 1\, Newton Institute
END:VEVENT
END:VCALENDAR
