BEGIN:VCALENDAR
VERSION:2.0
PRODID:-//Talks.cam//talks.cam.ac.uk//
X-WR-CALNAME:Talks.cam
BEGIN:VEVENT
SUMMARY:Dimensions of moduli spaces of finite flat models - Naoki Imai (To
 kyo)
DTSTART:20100601T133000Z
DTEND:20100601T143000Z
UID:TALK23592@talks.cam.ac.uk
CONTACT:Tom Fisher
DESCRIPTION:A finite flat model is a finite flat group scheme over the rin
 g of integers of a p-adic field with a fixed generic fiber. In this talk\,
  we discuss a moduli space of finite flat models. Especially\, we give a d
 imensional bound of the moduli spaces using a ramification index of a p-ad
 ic field. \n\n
LOCATION:MR13
END:VEVENT
END:VCALENDAR
