BEGIN:VCALENDAR
VERSION:2.0
PRODID:-//Talks.cam//talks.cam.ac.uk//
X-WR-CALNAME:Talks.cam
BEGIN:VEVENT
SUMMARY:Test - Speaker to be confirmed
DTSTART:20100305T110000Z
DTEND:20100305T120000Z
UID:TALK23593@talks.cam.ac.uk
CONTACT:Dr Hardip Sanghera
DESCRIPTION:test
LOCATION:Martin Ryle Room
END:VEVENT
END:VCALENDAR
