BEGIN:VCALENDAR
VERSION:2.0
PRODID:-//Talks.cam//talks.cam.ac.uk//
X-WR-CALNAME:Talks.cam
BEGIN:VEVENT
SUMMARY:Sir Richard Stone Annual Lecture 2010: Asset Bubbles and Economic 
 Dynamics - Professor David Laibson\, Harvard University
DTSTART:20100520T160000Z
DTEND:20100520T173000Z
UID:TALK23622@talks.cam.ac.uk
CONTACT:Charlotte Chamberlain
DESCRIPTION:*Professor David Laibson* will present the second of the _Cent
 re for Research in Microeconomic's_ (CReMic) Sir Richard Stone Annual Lect
 ures.\n\nDavid is Harvard College Professor and Robert I. Goldman Professo
 r of Economics at Harvard University. He is a leading international schola
 r in behavioural economics with research interests spanning psychology and
  economics\, experimental economics and neuroeconomics. He has presented n
 umerous public lectures including the 2009 Royal Economic Society Frank Ha
 hn Lecture and the 2007 Lionel Robbins Lectures at the London School of Ec
 onomics. David has published numerous articles in leading international jo
 urnals including Econometrica\, American Economic Review\, Quarterly Journ
 al of Economics\, Journal of Finance and Review of Financial Studies.\n\nT
 he Lecture will be followed by a Reception 18.30-19.30 in the adjacent Bat
 eman Room. \n\nAll are welcome.\n\nhttp://www.econ.cam.ac.uk/cremic/news/s
 tone2.html
LOCATION:Bateman Auditorium\, Gonville and Caius College\, CB2 1TA
END:VEVENT
END:VCALENDAR
