BEGIN:VCALENDAR
VERSION:2.0
PRODID:-//Talks.cam//talks.cam.ac.uk//
X-WR-CALNAME:Talks.cam
BEGIN:VEVENT
SUMMARY:Multiscale approaches to sub-picosecond heat driven magnetism reve
 rsal - Chantrel\, R (York)
DTSTART:20100310T113000Z
DTEND:20100310T123000Z
UID:TALK23636@talks.cam.ac.uk
CONTACT:Mustapha Amrani
DESCRIPTION:
LOCATION:Seminar Room 2\, Newton Institute Gatehouse
END:VEVENT
END:VCALENDAR
