BEGIN:VCALENDAR
VERSION:2.0
PRODID:-//Talks.cam//talks.cam.ac.uk//
X-WR-CALNAME:Talks.cam
BEGIN:VEVENT
SUMMARY:Nutrition Training Seminar Series - non-communicable diseases - Dr
  Cliona NiMurch\, MRC HNR
DTSTART:20100330T120000Z
DTEND:20100330T140000Z
UID:TALK23644@talks.cam.ac.uk
CONTACT:Glenys Jones
DESCRIPTION:PhD training seminar\, but open to all\n\n* Public Health Nutr
 ition: Non-communicable Diseases
LOCATION:Seminar Room\, MRC Human Nutrition Research\, Elsie Widdowson Lab
 oratory\, Fulbourn Road\, Cambridge
END:VEVENT
END:VCALENDAR
