BEGIN:VCALENDAR
VERSION:2.0
PRODID:-//Talks.cam//talks.cam.ac.uk//
X-WR-CALNAME:Talks.cam
BEGIN:VEVENT
SUMMARY:“Advances in head and neck radiotherapy” - Dr Chris Nutting\, 
 Royal Marsden Hospital
DTSTART:20110111T120000Z
DTEND:20110111T130000Z
UID:TALK23655@talks.cam.ac.uk
CONTACT:Mala Jayasundera
DESCRIPTION:Abstract: \nRecent advances in head and neck radiotherapy will
  be presented including results of Phase II and III trials of head and nec
 k IMRT.
LOCATION:CRI Lecture Theatre
END:VEVENT
END:VCALENDAR
