BEGIN:VCALENDAR
VERSION:2.0
PRODID:-//Talks.cam//talks.cam.ac.uk//
X-WR-CALNAME:Talks.cam
BEGIN:VEVENT
SUMMARY:Clàudia Jano-Munoz\, topic TBA - Clàudia Jano-Munoz (Astrophysic
 s\, Cambridge)
DTSTART:20251127T110000Z
DTEND:20251127T120000Z
UID:TALK236890@talks.cam.ac.uk
CONTACT:Paul B. Rimmer
DESCRIPTION:In person
LOCATION:Thirkill Room\, Old Court\, Clare College
END:VEVENT
END:VCALENDAR
