BEGIN:VCALENDAR
VERSION:2.0
PRODID:-//Talks.cam//talks.cam.ac.uk//
X-WR-CALNAME:Talks.cam
BEGIN:VEVENT
SUMMARY:Tim Head: Raw Material - Elizabeth Fisher\, Kettle's Yard
DTSTART:20100325T131000Z
DTEND:20100325T134000Z
UID:TALK23705@talks.cam.ac.uk
CONTACT:Fay Blanchard
DESCRIPTION:Tour the Tim Head exhibition with Elizabeth Fisher\, Curator o
 f Exhibitions.
LOCATION:Kettle's Yard\, Castle Street\, Cambridge\, CB3 0AQ
END:VEVENT
END:VCALENDAR
