BEGIN:VCALENDAR
VERSION:2.0
PRODID:-//Talks.cam//talks.cam.ac.uk//
X-WR-CALNAME:Talks.cam
BEGIN:VEVENT
SUMMARY:Elisabeth Vellacott - Sebastiano Barassi\, Kettle's Yard
DTSTART:20100527T121000Z
DTEND:20100527T124000Z
UID:TALK23719@talks.cam.ac.uk
CONTACT:Fay Blanchard
DESCRIPTION:Collections Curator Sebastiano Barassi discusses the work of E
 lisabeth Vellacott\, with examples from the Kettle’s Yard collection. 
LOCATION:Kettle's Yard\, Castle Street\, Cambridge\, CB3 0AQ
END:VEVENT
END:VCALENDAR
