BEGIN:VCALENDAR
VERSION:2.0
PRODID:-//Talks.cam//talks.cam.ac.uk//
X-WR-CALNAME:Talks.cam
BEGIN:VEVENT
SUMMARY:Attachment through Childhood: A longitudinal study from age 1 to a
 ge 18 - Dr Miriam Steele\, Associate Professor and Assistant Director of C
 linical Training\, Dept. of Psychology\, The New School\, New York
DTSTART:20100318T130000Z
DTEND:20100318T140000Z
UID:TALK23723@talks.cam.ac.uk
CONTACT:8810
DESCRIPTION:Abstract not available
LOCATION:Maxwell Lecture Theatre\, Faculty of PPSIS\, Free School Lane
END:VEVENT
END:VCALENDAR
