BEGIN:VCALENDAR
VERSION:2.0
PRODID:-//Talks.cam//talks.cam.ac.uk//
X-WR-CALNAME:Talks.cam
BEGIN:VEVENT
SUMMARY:A pseudospectral method for surface Navier–Stokes equations - M.
  Ganesh (Colorado School of Mines)
DTSTART:20100624T140000Z
DTEND:20100624T150000Z
UID:TALK23726@talks.cam.ac.uk
CONTACT:6743
DESCRIPTION:In this talk\, we discuss a pseudospectral algorithm\, its ana
 lysis\,\nimplementation and simulation results for a global computer\nmode
 ling of the incompressible surface Navier–Stokes equations\non the rotat
 ing spheres.
LOCATION:MR14\, CMS
END:VEVENT
END:VCALENDAR
