BEGIN:VCALENDAR
VERSION:2.0
PRODID:-//Talks.cam//talks.cam.ac.uk//
X-WR-CALNAME:Talks.cam
BEGIN:VEVENT
SUMMARY:Probabilistic Techniques in Mathematical Phylogenetics - Roch\, S 
 (UC\, Los Angeles)
DTSTART:20100324T110000Z
DTEND:20100324T120000Z
UID:TALK23839@talks.cam.ac.uk
CONTACT:Mustapha Amrani
DESCRIPTION:I will discuss recent results on connections between the recon
 struction problem on spin systems and two important problems in evolutiona
 ry biology: the inference of ancestral molecular sequences and the reconst
 ruction of large phylogenies. 
LOCATION:Seminar Room 1\, Newton Institute
END:VEVENT
END:VCALENDAR
