BEGIN:VCALENDAR
VERSION:2.0
PRODID:-//Talks.cam//talks.cam.ac.uk//
X-WR-CALNAME:Talks.cam
BEGIN:VEVENT
SUMMARY:Immune alterations in first-episode psychosis and the effects of n
 atalizumab: A neuroimaging study with concurrent CSF measures - Dr Yuya Mi
 zuno\, King's College London
DTSTART:20251120T123000Z
DTEND:20251120T133000Z
UID:TALK238687@talks.cam.ac.uk
CONTACT:Oliver Knight
DESCRIPTION:It is hypothesised that microglia\, the primary immune cells i
 n the brain\, play a key role in the pathophysiology of schizophrenia. To 
 address this\, we investigated the effects of 3-month treatment with the m
 onoclonal antibody natalizumab on a PET biomarker of microglia\, CSF cytok
 ines\, and symptom measures in people with first-episode psychosis. I will
  be presenting unpublished findings from this study and future directions.
LOCATION:Hybrid (in-person at the Herchel Smith Building and online via zo
 om)
END:VEVENT
END:VCALENDAR
