BEGIN:VCALENDAR
VERSION:2.0
PRODID:-//Talks.cam//talks.cam.ac.uk//
X-WR-CALNAME:Talks.cam
BEGIN:VEVENT
SUMMARY:Lesbian and Gay Parenting and European Human Rights Law:  When wil
 l France catch up with the UK? - Prof. Robert Wintemute\, School of Law\, 
 King's College London
DTSTART:20100506T160000Z
DTEND:20100506T170000Z
UID:TALK23887@talks.cam.ac.uk
CONTACT:8810
DESCRIPTION:Abstract not available
LOCATION:Maxwell Lecture Theatre\, Faculty of PPSIS\, Free School Lane
END:VEVENT
END:VCALENDAR
