BEGIN:VCALENDAR
VERSION:2.0
PRODID:-//Talks.cam//talks.cam.ac.uk//
X-WR-CALNAME:Talks.cam
BEGIN:VEVENT
SUMMARY:Recent Archaeology in Cambridgeshire - Multiple speakers
DTSTART:20251122T090000Z
DTEND:20251122T190000Z
UID:TALK238978@talks.cam.ac.uk
CONTACT:127957
DESCRIPTION:Full programme will be mounted shortly
LOCATION:Law Faculty\, 10 West Road\, Cambridge CB3 9DZ
END:VEVENT
END:VCALENDAR
