BEGIN:VCALENDAR
VERSION:2.0
PRODID:-//Talks.cam//talks.cam.ac.uk//
X-WR-CALNAME:Talks.cam
BEGIN:VEVENT
SUMMARY:The spectral gap of a hyperbolic surface - Michael Magee (Durham U
 niversity)
DTSTART:20260203T093000Z
DTEND:20260203T103000Z
UID:TALK239599@talks.cam.ac.uk
DESCRIPTION:In this talk I'll give an introduction to hyperbolic surfaces.
  Then I'll describe popular random and arithmetic models of them.&nbsp\; I
 'll give an overview of the whole spectrum of the Laplacian on the surface
 \, and then focus on&nbsp\;\nthe potential spectral gap at zero.&nbsp\;I'l
 l explain both old and new results about the spectral gap\nand finally hig
 hlight some remaining challenges.\n&nbsp\;\nBased on joint works with W. H
 ide\, D. Puder\, and R. van Handel.
LOCATION:Seminar Room 1\, Newton Institute
END:VEVENT
END:VCALENDAR
