BEGIN:VCALENDAR
VERSION:2.0
PRODID:-//Talks.cam//talks.cam.ac.uk//
X-WR-CALNAME:Talks.cam
BEGIN:VEVENT
SUMMARY:Dr Leticia Monin Aldama\, Department of Immunology and Inflammatio
 n - Faculty of Medicine\, Imperial College London - Dr Leticia Monin Aldam
 a\, Department of Immunology and Inflammation - Faculty of Medicine\, Impe
 rial College London
DTSTART:20260625T150000Z
DTEND:20260625T160000Z
UID:TALK239911@talks.cam.ac.uk
CONTACT:Liat Churley
DESCRIPTION:This Cambridge Immunology Network Seminar will take place on *
 Thursday 25th June 2026*\, starting at *4:00pm*\, in the Ground Floor Lect
 ure Theatre\, Jeffrey Cheah Biomedical Centre (JCBC)\n\n*Speaker*: Dr Leti
 cia Monin Aldama\, Department of Immunology and Inflammation - Faculty of 
 Medicine\, Imperial College London\n\n*Title*: To be confirmed\n\n*Host*: 
 Dr Noe Rodriguez\, LMB\, Cambridge\n\nRefreshments will be available follo
 wing the seminar.
LOCATION: Lecture Theatre\, Jeffrey Cheah Biomedical Centre\, Cambridge Bi
 omedical Campus
END:VEVENT
END:VCALENDAR
