BEGIN:VCALENDAR
VERSION:2.0
PRODID:-//Talks.cam//talks.cam.ac.uk//
X-WR-CALNAME:Talks.cam
BEGIN:VEVENT
SUMMARY:A (rough) pathwise approach to some SPDEs - Oberhauser\, H (Techni
 sche Universitat Berlin)
DTSTART:20100407T073000Z
DTEND:20100407T083000Z
UID:TALK24075@talks.cam.ac.uk
CONTACT:Mustapha Amrani
DESCRIPTION:
LOCATION:Seminar Room 2\, Newton Institute Gatehouse
END:VEVENT
END:VCALENDAR
