BEGIN:VCALENDAR
VERSION:2.0
PRODID:-//Talks.cam//talks.cam.ac.uk//
X-WR-CALNAME:Talks.cam
BEGIN:VEVENT
SUMMARY:Barriers to Adoption of Neurotechnologies - Gerwin Schalk (Sichuan
  University)
DTSTART:20251203T120500Z
DTEND:20251203T125000Z
UID:TALK241006@talks.cam.ac.uk
DESCRIPTION:
LOCATION:Seminar Room 1\, Newton Institute
END:VEVENT
END:VCALENDAR
