BEGIN:VCALENDAR
VERSION:2.0
PRODID:-//Talks.cam//talks.cam.ac.uk//
X-WR-CALNAME:Talks.cam
BEGIN:VEVENT
SUMMARY:How do maternal NK cells affect reproductive success? - Ashley Mof
 fett\, Department of Pathology\, University of Cambridge
DTSTART:20100507T120000Z
DTEND:20100507T130000Z
UID:TALK24216@talks.cam.ac.uk
CONTACT:Denise Schofield
DESCRIPTION:Abstract not available
LOCATION:Sackler Lecture Theatre (Level 7)\, Cambridge Institute for Medic
 al Research
END:VEVENT
END:VCALENDAR
