BEGIN:VCALENDAR
VERSION:2.0
PRODID:-//Talks.cam//talks.cam.ac.uk//
X-WR-CALNAME:Talks.cam
BEGIN:VEVENT
SUMMARY:Argentine-Chilean frontier dispute:  Conflict Escalation to Violen
 ce in the Beagle Channel - Andrés Villar-Gertner
DTSTART:20100520T160000Z
DTEND:20100520T173000Z
UID:TALK24246@talks.cam.ac.uk
CONTACT:Dan Kim
DESCRIPTION:Focusing on the period between 1978 and 1984\, this academic p
 roject tries to indentify patterns of change and continuity in the foreign
  policy of Argentina and Chile in the resolution of the frontier dispute. 
 To understand fully the significant political resolutions of the dispute\,
  it is quite instinctive to compare the foreign decision making process of
  both countries\, and in this way to analyze differences and similar outco
 mes. 
LOCATION:Seminar Room C\, POLIS\, 17 Mill Lane
END:VEVENT
END:VCALENDAR
