BEGIN:VCALENDAR
VERSION:2.0
PRODID:-//Talks.cam//talks.cam.ac.uk//
X-WR-CALNAME:Talks.cam
BEGIN:VEVENT
SUMMARY:Chemical abundance patterns at high redshift: insights from deep s
 pectroscopy and multi-component photoionisation models - Francesco Belfior
 e (ESO)
DTSTART:20260313T113000Z
DTEND:20260313T123000Z
UID:TALK243037@talks.cam.ac.uk
CONTACT:Sandro Tacchella
DESCRIPTION:Abstract not available
LOCATION:Ryle Seminar Room\, KICC + online
END:VEVENT
END:VCALENDAR
