BEGIN:VCALENDAR
VERSION:2.0
PRODID:-//Talks.cam//talks.cam.ac.uk//
X-WR-CALNAME:Talks.cam
BEGIN:VEVENT
SUMMARY:Should We Worry About Pain in Farm Animals? - George Stilwell\, Te
 chnical University of Lisbon\, Portugal
DTSTART:20100601T153000Z
DTEND:20100601T170000Z
UID:TALK24511@talks.cam.ac.uk
CONTACT:Anthony Podberscek
DESCRIPTION:Abstract not available
LOCATION:Centre for Animal Welfare & Anthrozoology Seminar Room\, Veterina
 ry Medicine\, Department of
END:VEVENT
END:VCALENDAR
