BEGIN:VCALENDAR
VERSION:2.0
PRODID:-//Talks.cam//talks.cam.ac.uk//
X-WR-CALNAME:Talks.cam
BEGIN:VEVENT
SUMMARY:Counterfactuals in Social Science and the Humanities - Prof. Ned L
 ebow\, Dartmouth\, LSE\, Cambridge
DTSTART:20100421T190000Z
DTEND:20100421T200000Z
UID:TALK24585@talks.cam.ac.uk
CONTACT:Simon Schlachter
DESCRIPTION:Abstract not available
LOCATION:Nihon Room\, Pembroke College
END:VEVENT
END:VCALENDAR
