BEGIN:VCALENDAR
VERSION:2.0
PRODID:-//Talks.cam//talks.cam.ac.uk//
X-WR-CALNAME:Talks.cam
BEGIN:VEVENT
SUMMARY:Nautical Archaeology Society - Speaker to be confirmed
DTSTART:20100506T183000Z
DTEND:20100506T210000Z
UID:TALK24590@talks.cam.ac.uk
CONTACT:Stuart Moore
DESCRIPTION:The Nautical Archaeology Society is dedicated to advancing edu
 cation in nautical archaeology at all levels\; to improving techniques in 
 excavating\, conservation and reporting\; and to encouraging the participa
 tion of members of the public at all stages. They will be telling us about
  some of their recent discoveries\, and about how to get involved.
LOCATION:Graduate Union Lounge\, 17 Mill Lane\, Cambridge
END:VEVENT
END:VCALENDAR
