BEGIN:VCALENDAR
VERSION:2.0
PRODID:-//Talks.cam//talks.cam.ac.uk//
X-WR-CALNAME:Talks.cam
BEGIN:VEVENT
SUMMARY:The Structural Correspondence Between Human and Formal Mathematica
 l Proofs - Zhengqin Fan (Carnegie Mellon University)
DTSTART:20260330T170500Z
DTEND:20260330T171000Z
UID:TALK246076@talks.cam.ac.uk
DESCRIPTION:
LOCATION:Seminar Room 1\, Newton Institute
END:VEVENT
END:VCALENDAR
