BEGIN:VCALENDAR
VERSION:2.0
PRODID:-//Talks.cam//talks.cam.ac.uk//
X-WR-CALNAME:Talks.cam
BEGIN:VEVENT
SUMMARY:Kavli Introductory Talk - Christopher Crowe\, Hiranya Peiris and J
 ose Vazquez
DTSTART:20100507T130000Z
DTEND:20100507T140000Z
UID:TALK24666@talks.cam.ac.uk
CONTACT:Paula younger
DESCRIPTION:Abstract not available
LOCATION:Martin Ryle Large Meeting Room\, KICC
END:VEVENT
END:VCALENDAR
