BEGIN:VCALENDAR
VERSION:2.0
PRODID:-//Talks.cam//talks.cam.ac.uk//
X-WR-CALNAME:Talks.cam
BEGIN:VEVENT
SUMMARY:Title to be confirmed - Mikhail Volkov (University of Tours)
DTSTART:20260612T120000Z
DTEND:20260612T130000Z
UID:TALK246755@talks.cam.ac.uk
CONTACT:Lorenzo Gavassino
DESCRIPTION:<p><br></p>
LOCATION:Potter Room / Zoom
END:VEVENT
END:VCALENDAR
