BEGIN:VCALENDAR
VERSION:2.0
PRODID:-//Talks.cam//talks.cam.ac.uk//
X-WR-CALNAME:Talks.cam
BEGIN:VEVENT
SUMMARY:Cambridge University's Department of Geography and Transition Camb
 ridge invite you to Election Question Time - Cambridge's General Election 
 Candidates
DTSTART:20100428T190000Z
DTEND:20100428T203000Z
UID:TALK24680@talks.cam.ac.uk
CONTACT:18628
DESCRIPTION:Cambridge University's Department of Geography and Transition 
 Cambridge invite you to Election Question Time: \n\nWhat kind of Britain? 
  Visions of a sustainable economy\n\nA debate with Cambridge's general ele
 ction candidates:\n\n    * Nick Hillman (Conservative)\n    * Tony Juniper
  (Green)\n    * Daniel Zeichner (Labour)  \n    * Julian Huppert  (Liberal
  Democrat)\n\nEngage the candidates in a discussion on a range of pressing
  issues: from peak oil\, economic growth and energy policy to food securit
 y\, climate change\, global justice and biodiversity. \n\nWhere:   Emmanue
 l United Reformed Church\, Trumpington\, Cambridge CB2 1RR\n\nWhen:    Wed
 nesday 28th April 2010\, 8 pm\n\nAll are welcome and admission is free (do
 nations much appreciated).  Bring your friends and your most pressing ques
 tions for Cambridge’s candidates. \n\nPlease spread the word!  Use this 
 link to invite your friends on Facebook: http://www.facebook.com/event.php
 ?eid=111967265505185\n\nFor more information and directions\, go to www.tr
 ansitioncambridge.org 
LOCATION:Emmanuel United Reformed Church\, Trumpington Street\, Cambridge\
 , CB1 1RR
END:VEVENT
END:VCALENDAR
