BEGIN:VCALENDAR
VERSION:2.0
PRODID:-//Talks.cam//talks.cam.ac.uk//
X-WR-CALNAME:Talks.cam
BEGIN:VEVENT
SUMMARY:Real-time nowcasting and forecasting of COVID-19 dynamics in Engla
 nd - Daniela De Angelis\, MRC Biostatistics
DTSTART:20260422T181500Z
DTEND:20260408T200000Z
UID:TALK246816@talks.cam.ac.uk
CONTACT:Peter Watson
DESCRIPTION:<p>Daniela De Angelis directs a Cambridge team of statistician
 s working on “Real time monitoring of the SARS-COV2 pandemic”\, which 
 has provided the official Public Health England real time estimates and pr
 ojections of the state of the pandemic in England.</p><p>Research on devel
 oping the statistical model for the COVID-19 pandemic first began in respo
 nse to the 2009 swine influenza pandemic\, in collaboration with Public He
 alth England (PHE). The aim was to develop models for estimating and predi
 cting the spread of a potential influenza pandemic\, using information fro
 m multiple data sources available from PHE.</p>
LOCATION:City House\,  Hills Road\, Cambridge\, CB2 1RY
END:VEVENT
END:VCALENDAR
