BEGIN:VCALENDAR
VERSION:2.0
PRODID:-//Talks.cam//talks.cam.ac.uk//
X-WR-CALNAME:Talks.cam
BEGIN:VEVENT
SUMMARY:title/abstract TBA - Wilhelm Schlag (Yale University)
DTSTART:20260506T100000Z
DTEND:20260506T110000Z
UID:TALK246820@talks.cam.ac.uk
CONTACT:Robert Barczyk
DESCRIPTION:
END:VEVENT
END:VCALENDAR
