BEGIN:VCALENDAR
VERSION:2.0
PRODID:-//Talks.cam//talks.cam.ac.uk//
X-WR-CALNAME:Talks.cam
BEGIN:VEVENT
SUMMARY:title/abstract TBA - Leonid Pastur (King's College London)
DTSTART:20260605T100000Z
DTEND:20260605T110000Z
UID:TALK246823@talks.cam.ac.uk
CONTACT:Robert Barczyk
DESCRIPTION:
END:VEVENT
END:VCALENDAR
