BEGIN:VCALENDAR
VERSION:2.0
PRODID:-//Talks.cam//talks.cam.ac.uk//
X-WR-CALNAME:Talks.cam
BEGIN:VEVENT
SUMMARY:Title TBC - Guillaume Bossard (CNRS & École polytechnique)
DTSTART:20260714T143000Z
DTEND:20260714T153000Z
UID:TALK246855@talks.cam.ac.uk
CONTACT:Robert Barczyk
DESCRIPTION:
END:VEVENT
END:VCALENDAR
