BEGIN:VCALENDAR
VERSION:2.0
PRODID:-//Talks.cam//talks.cam.ac.uk//
X-WR-CALNAME:Talks.cam
BEGIN:VEVENT
SUMMARY:Title TBC - Albrecht Klemm (University of Sheffield)
DTSTART:20260716T130000Z
DTEND:20260716T140000Z
UID:TALK246861@talks.cam.ac.uk
CONTACT:Robert Barczyk
DESCRIPTION:
END:VEVENT
END:VCALENDAR
